BEGIN:VCALENDAR
VERSION:2.0
PRODID:-//PLPBK - ECPv6.14.2//NONSGML v1.0//EN
CALSCALE:GREGORIAN
METHOD:PUBLISH
X-WR-CALNAME:PLPBK
X-ORIGINAL-URL:https://plpbk.unj.ac.id
X-WR-CALDESC:Events for PLPBK
REFRESH-INTERVAL;VALUE=DURATION:PT1H
X-Robots-Tag:noindex
X-PUBLISHED-TTL:PT1H
BEGIN:VTIMEZONE
TZID:Asia/Jakarta
BEGIN:STANDARD
TZOFFSETFROM:+0700
TZOFFSETTO:+0700
TZNAME:WIB
DTSTART:20250101T000000
END:STANDARD
END:VTIMEZONE
BEGIN:VEVENT
DTSTART;VALUE=DATE:20251013
DTEND;VALUE=DATE:20251014
DTSTAMP:20260421T090323
CREATED:20260330T030229Z
LAST-MODIFIED:20260330T030229Z
UID:4900-1760313600-1760399999@plpbk.unj.ac.id
SUMMARY:Campaign Kesehatan Mental dan Pelantikan Sahabat Sebaya
DESCRIPTION:Hai\, Sobat PLPBK UNJ!👋 \nPada tanggal 13 Oktober 2025\, PLPBK UNJ telah melaksanakan Campaign Kesehatan Mental dan Pelantikan Sahabat Sebaya\, lho! Kegiatan ini berlangsung di Aula Lantai 9\, Gedung Ki Hajar Dewantara UNJ. Dalam kegiatan ini\, diikuti oleh 223 peserta. Yuk\, simak dokumentasinya pada slide berikut! 😊 \n©PLPBK Universitas Negeri Jakarta\nNarahubung: wa.me/+6281211023758\ninstagram.com/plpbk.unj/\nWebsite: plpbk.unj.ac.id\nEmail: plpbk@unj.ac.id
URL:https://plpbk.unj.ac.id/event/campaign-kesehatan-mental-dan-pelantikan-sahabat-sebaya/
LOCATION:Auditorium Gedung Ki Hadjar Dewantara Lt. 9\, Universitas Negeri Jakarta\, Auditorium Gedung Ki Hadjar Dewantara Lt. 9\, Universitas Negeri Jakarta\, Jakarta Timur\, DKI Jakarta\, 13220\, Indonesia
CATEGORIES:Seminar
ATTACH;FMTTYPE=image/webp:https://plpbk.unj.ac.id/wp-content/uploads/2026/03/572187082_18292223530279950_4874977859004173209_n.webp
END:VEVENT
END:VCALENDAR